BEGIN:VCALENDAR
VERSION:2.0
PRODID:-//https://www.redchair.com.au///NONSGML kigkonsult.se iCalcreator 2.10.15//
METHOD:PUBLISH
BEGIN:VEVENT
UID:20260425T132049UTC-8887vIIKO6@https://www.redchair.com.au/
DTSTAMP:20260425T132049Z
DESCRIPTION:Winner of the international 2016 Guitar Masters fingerstyle com
 petition - one of the largest and most prestigious guitar competitions in 
 the world – East Frisian guitarist Soenke Meinen embarks on his first Aust
 ralian tour as part of the 2017 Acoustic Guitar Spectacular.  With Bruce M
 athiske - arguably the finest all-round guitarist Australia has produced (
 The Australian) – and Michael Fix - one of Australia’s Top 25 Guitarists o
 f All Time – Meinen will join forces to weave memorable musical magic. Sho
 wcasing a diverse range of guitar talent from across the globe\, the Acous
 tic Guitar Spectacular has been touring Australia annually since 2012 to s
 ell out audiences and rave reviews.\n \nTour Dates 2017:\n  \nSoundlounge
 \nFriday 10 November 2017 | Time: 8.30pm | Location: 165 Duringan St\, Cur
 rumbin | Tickets: soundlounge.com.au\nThe Events Centre\nSaturday 11 Novem
 ber 2017 | Time: 7.30pm | Location: 20 Minchinton St\, Caloundra | Tickets
 : theeventscentre.com.au\nBrisbane Jazz Club\nSunday 12 November 2017 | Ti
 me: 10.00am | Location: 1 Annie St\, Kangaroo Point | Tickets: brisbanejaz
 zclub.com.au\nBrisbane City Hall\nTuesday 14 November 2017 | Time: 12.00pm
  | Location: 64 Adelaide St\, Brisbane\nYeppoon Town Hall\nWednesday 15 No
 vember 2017 | Time: 7.30pm | Location: 25 Normanby St\, Yeppoon | Tickets:
  Ph (07) 4913 5000\nBurdekin Theatre\nFriday 17 November 2017 | Time: 7.30
 pm | Location: 161 Queen St\, Ayr | Tickets: burdekintheatre.com.au\nCalva
 ry Christian Church\nSaturday 18 November 2017 | Time: 7.30pm | Location: 
 11 Gladstone St\, Emerald | More Info: 0409 820 790\nQANTAS Founders Outba
 ck Museum\nTuesday 21 November 2017 | Time: 6.30pm | Location: Sir Hudson 
 Fysh Drive\, Longreach | More Info: facebook.com/QantasFoundersMuseum\nBar
 caldine Shire Hall\nWednesday 22 November 2017 | Time: 6.30pm | Location: 
 71 Ash St\, Barcaldine | Tickets: Ph (07) 4651 1341\nIpswich Civic Centre 
 - SOLD OUT\nFriday 24 November 2017 | Time: 7.30pm | Location: Cnr Limesto
 ne &amp\; Nicholas St\, Ipswich | Tickets: ipswichciviccentre.com.au\nGata
 kers Artspace\nSaturday 25 November 2017 | Time: 6.00pm | Location: 311 Ke
 nt St\, Maryborough | Tickets: ourfrasercoast.com.au\nThe Leichhardt Centr
 e\nSunday 26 November 2017 | Time: 4.30pm | Location: Cnr Dawson &amp\; Ma
 rion Sts\, Miles | Tickets: facebook.com/Miles-Regional-Arts-Council-Inc /
  Ph (07) 4628 5330\nLogan Entertainment Centre\nWednesday 29 November 2017
  | Time: 7.30pm | Location: 170 Wembley Rd\, Logan Central | Tickets: loga
 nentertainmentcentre.com.au\n \n \nPerformance Opportunity for Local Guita
 rists\nThe Acoustic Guitar Spectacular are offering an exciting opportunit
 y for emerging and professional acoustic guitarists to perform with the pr
 oduction in Caloundra\, Brisbane\, Longreach\, Ipswich\, Maryborough\, and
  Logan. Each selected guitarist will also receive a one-on-one mentoring s
 ession with either Soenke Meinen\, Bruce Mathiske or Michael Fix. To be el
 igible\, applicants must be residing in the same local government area as 
 the venue for which they are expressing interest.\n \n   Red Chair is supp
 orted by the Queensland Government through Arts Queensland https://www.red
 chair.com.au/what-s-on/event/339-acoustic-guitar-spectacular-2017
DTSTART:20171110T103000Z
DTEND:20171129T130000Z
LOCATION:Queensland (Queensland\, Australia)
SUMMARY:Acoustic Guitar Spectacular 2017
URL:https://www.redchair.com.au/what-s-on/event/339-acoustic-guitar-spectac
 ular-2017
END:VEVENT
END:VCALENDAR
