BEGIN:VCALENDAR
VERSION:2.0
PRODID:-//https://www.redchair.com.au///NONSGML kigkonsult.se iCalcreator 2.10.15//
METHOD:PUBLISH
BEGIN:VEVENT
UID:20260420T185537UTC-71276RcKxW@https://www.redchair.com.au/
DTSTAMP:20260420T185537Z
DESCRIPTION:Photo credit: Alex Jamieson\nThe Brisbane Tango Orchestra joins
  forces with Australian-born/Buenos Aires-based composer and bandoneón sol
 oist\, Owen Salomé to bring you an exciting concert of new tango music esp
 ecially commissioned for this concert series.\nSince the early twentieth c
 entury\, Argentine tango music and the tango dance tradition have spread t
 hroughout Latin America and beyond to become a world music phenomenon than
 ks to notable musicians and composers such as Astor Piazzolla.\nAmongst hi
 s many accolades\, Owen Salomé is one of the bandoneónists of the 16th ite
 ration of the 2 year ‘Orquesta Escuela Emilio Balcarce’ tango program in t
 he city of Buenos Aires: the first ever Australian to hold the position.\n
 The Brisbane Tango Orchestra (BTO) is an ensemble which Chloe Ann Williams
 on (Double Bassist and Artistic Director) started as a way to bring the th
 rilling repertoire written for tango orchestra to Queensland audiences.\nD
 on’t miss this unprecedented opportunity to hear a concert of entirely new
  tango music by an Australian composer performed by a solo bandoneónist an
 d specialist tango orchestra!\n \nTour Dates 2023\n  \nGoondiwindi Cinema 
 &amp\; Theatre\nSunday 5 February | Time: 2pm | Location: 92 Marshall St\,
  Goondiwindi | Tickets: goondiwindicinema.com.au\nMaleny Community Centre
 \nFriday 10 February | Time: 7pm | Location: 23 Maple St\, Maleny | Ticket
 s: events.humanitix.com\nTom Atkin Hall\nSaturday 11 February | Time: 7pm 
 | Location: 433 Golden Four Dve\, Tugun | Tickets: tomatkinhall.com.au\nTh
 e Old Museum\nSunday 12 February | Time: 3pm | Location: 480 Gregory Tce\,
  Bowen Hills | Tickets: oldmuseum.org\nBrisbane City Hall\nTuesday 14 Febr
 uary | Time: 12pm | Location: 64 Adelaide St\, Brisbane City | FREE EVENT
 \nRedland Performing Arts Centre\nWednesday 15 February | Time: 7pm | Loca
 tion: 2/16 Middle St\, Cleveland | Tickets: rpac.com.au\nThe Centre\nSatur
 day 18 February | Time: 7.30pm | Location: 82 Brisbane St\, Beaudesert | T
 ickets: liveatthecentre.com.au\n \n  \nThis project is supported by the Qu
 eensland Government through Arts Queensland. This project has been assiste
 d by the AustralianGovernment through the Australia Council\, its arts fun
 ding and advisory body.\n \nRed Chair Pty Ltd is focused on responsible an
 d safe management of our Staff\, Contractors\, Artists and Patrons. Our Wo
 rk Health &amp\; Safety Plan for COVID-19 ensures we manage our obligation
 s to keep people safe within our varied work environments.\nIf you are unw
 ell or showing signs of COVID-19 please do not attend the event. Self-isol
 ate and seek medical advice. https://www.redchair.com.au/what-s-on/event/5
 62-owen-salome-brisbane-tango-orchestra
DTSTART:20230205T040000Z
DTEND:20230218T113000Z
LOCATION:South East Queensland (Brisbane QLD\, Australia)
SUMMARY:Owen Salomé & Brisbane Tango Orchestra
URL:https://www.redchair.com.au/what-s-on/event/562-owen-salome-brisbane-ta
 ngo-orchestra
END:VEVENT
END:VCALENDAR
