BEGIN:VCALENDAR
VERSION:2.0
PRODID:-//https://www.redchair.com.au///NONSGML kigkonsult.se iCalcreator 2.10.15//
METHOD:PUBLISH
BEGIN:VEVENT
UID:20260425T134612UTC-73259jgWW2@https://www.redchair.com.au/
DTSTAMP:20260425T134612Z
DESCRIPTION:Image Credit: Juanita Broderick\nAfter a string of successful A
 ustralian and international tours\, French-born\, award-winning singer Pau
 line Maudy presents a new show about growing up in two places. Much more t
 han a story of migration\, Take Me to Paris reminds us of the importance o
 f community\, connection\, memories\, and belonging.\nTake Me to Paris is 
 a show about belonging and identity. It’s about our search for an idealise
 d version of heaven on earth\, Napoleon’s fascination for Australia\, Aust
 ralia’s fascination for the city of love and everything in between.\nOne o
 f the truly rare voices on the international world scene\, Pauline effortl
 essly channels the greats in French and English\, transporting audiences f
 rom Parisian alleyways to New York jazz bars in a heartbeat.\nTake Me to P
 aris takes us on a voyage to the mystical city of Paris and right back to 
 the beautiful land we live in\, skilfully weaving breathtaking music with 
 a moving and humorous exploration of whether the grass really is greener o
 n the other side.\nFor Take Me to Paris Pauline is joined on stage by some
  of Queensland’s finest musicians and together they punctuate Pauline’s ch
 arismatic storytelling seamlessly.\n \nTour Dates 2024\n \nMajestic Theatr
 e\nFriday 14 June | Time: 7pm | Location: 3 Factory St\, Pomona | Tickets:
  themajestictheatre.com.au\nEudlo Hall\nSaturday 15 June | Time: 7pm | Loc
 ation: 19 Rosebed St\, Eudlo | Tickets: events.humanitix.com\nBrisbane Cit
 y Hall\nTuesday 18 June | Time: 12pm | Location: 64 Adelaide St\, Brisbane
  City | Free Event\nMaleny Community Centre\nThursday 20 June | Time: 7pm 
 | Location: 23 Maple St\, Maleny | Tickets: events.humanitix.com\nBrolga T
 heatre &amp\; Convention Centre\nFriday 21 June | Time: 7.30pm | Location:
  5 Walker St\, Maryborough | Tickets: brolga.ourfrasercoast.com.au\nCoolum
  Civic Centre\nSaturday 22 June | Time: 7pm | Location: 2-4 Park St\, Cool
 um Beach | Tickets: events.humanitix.com\nIpswich Civic Centre\nFriday 28 
 June | Time: 8pm | Location: 50 Nicholas St\, Ipswich | Tickets: ipswichci
 viccentre.com.au\n \nThis project is supported by the Queensland Governmen
 t through Arts Queensland. This initiative was supported through the Creat
 ive Industries Investment Program and is jointly funded by ArtsCoast throu
 gh Sunshine Coast Council’s Art and Heritage Levy and the Regional Arts De
 velopment Fund in partnership with Queensland Government.\n         https:
 //www.redchair.com.au/what-s-on/event/596-take-me-to-paris
DTSTART:20240614T090000Z
DTEND:20240628T120000Z
LOCATION:South East Queensland (Brisbane QLD\, Australia)
SUMMARY:Take Me to Paris
URL:https://www.redchair.com.au/what-s-on/event/596-take-me-to-paris
END:VEVENT
END:VCALENDAR
