BEGIN:VCALENDAR
VERSION:2.0
PRODID:-//https://www.redchair.com.au///NONSGML kigkonsult.se iCalcreator 2.10.15//
METHOD:PUBLISH
BEGIN:VEVENT
UID:20260422T205757UTC-9287pumDcb@https://www.redchair.com.au/
DTSTAMP:20260422T205757Z
DESCRIPTION:Image Credit: David Kelly\nExperience stunning acoustic mastery
  as the highly anticipated Acoustic Guitar Spectacular returns in 2024. Ho
 sted by renowned Brisbane guitarist Michael Fix\, this series of intimate 
 concerts brings together a trio of Queensland's finest musicians including
  Marcus Church and Brendan Radford.\nKnown for his brilliant fingerstyle g
 uitar playing and captivating compositions\, Michael Fix has released nume
 rous albums\, won multiple awards\, (including three CMAA Golden Guitar Aw
 ards)\, and has toured extensively throughout Australia and the world.\nMa
 rcus Church is a standout acoustic guitarist rapidly gaining recognition i
 n the Australian bluegrass scene. He is a regular performer with local ban
 ds including Haystack Mountain Hermits\, the Shining Hour\, and the Inadeq
 uates.\nGifted guitarist and vocalist\, Brendan Radford\, has performed an
 d recorded with many leading Australian and international artists. He was 
 part of Lee Kernaghan’s touring band for over a decade and has been a key 
 member of the house band for the Country Music Awards of Australia for the
  past eleven years.\nComplete with fretboard virtuosity\, personal tales\,
  and charming humour\, this concert promises to be a unique journey into t
 he heart of acoustic music\, captivating music fans and guitar aficionados
  alike. Performing solo and ensemble pieces and traversing a wide range of
  genres from country to rock and classical to bluegrass\, these diverse gu
 itarists offer a rare opportunity to witness an abundance of musical talen
 t on the one stage.\n \nTour Dates 2024\n \nEudlo Hall\nFriday 19 July | T
 ime: 7pm | Location: 19 Rosebed St\, Eudlo | Tickets: events.humanitix.com
 \nCoolum Civic Centre\nSaturday 20 July | Time: 7pm | Location: 2-4 Park S
 t\, Coolum Beach | Tickets: events.humanitix.com\nEmpress Theatre - ARCANA
 \nThursday 25 July | Time: 7pm | Location: 46 Evesham St\, Moorooka | Tick
 ets: anywhere.is\nMajestic Theatre\nFriday 26 July | Time: 7pm | Location:
  3 Factory St\, Pomona | Tickets: themajestictheatre.com.au\nMaleny Commun
 ity Centre\nSaturday 27 July | Time: 7pm | Location: 23 Maple St\, Maleny 
 | Tickets: events.humanitix.com\nStudio 188\nSunday 28 July | Time: 4pm | 
 Location: 188 Brisbane St\, Ipswich | Tickets: ipswichciviccentre.com.au\n
 Millmerran Bowls Club\nSaturday 3 August | Time: 7pm | Location: 38 Walpol
 e St\, Millmerran | Tickets: millmerranartscouncil.com.au\n \n\nThis proje
 ct is supported by the Queensland Government through Arts Queensland. This
  initiative was supported through the Creative Industries Investment Progr
 am and is jointly funded by ArtsCoast through Sunshine Coast Council’s Art
  and Heritage Levy and the Regional Arts Development Fund in partnership w
 ith Queensland Government.\n        \n  https://www.redchair.com.au/what-s
 -on/event/597-acoustic-guitar-spectacular
DTSTART:20240719T090000Z
DTEND:20240803T120000Z
LOCATION:South East Queensland (Brisbane QLD\, Australia)
SUMMARY:Acoustic Guitar Spectacular
URL:https://www.redchair.com.au/what-s-on/event/597-acoustic-guitar-spectac
 ular
END:VEVENT
END:VCALENDAR
